BEGIN:VCALENDAR
VERSION:2.0
PRODID:-//Sunset Church - ECPv6.15.20//NONSGML v1.0//EN
CALSCALE:GREGORIAN
METHOD:PUBLISH
X-WR-CALNAME:Sunset Church
X-ORIGINAL-URL:https://sunset.church
X-WR-CALDESC:Events for Sunset Church
REFRESH-INTERVAL;VALUE=DURATION:PT1H
X-Robots-Tag:noindex
X-PUBLISHED-TTL:PT1H
BEGIN:VTIMEZONE
TZID:America/Los_Angeles
BEGIN:DAYLIGHT
TZOFFSETFROM:-0800
TZOFFSETTO:-0700
TZNAME:PDT
DTSTART:20250309T100000
END:DAYLIGHT
BEGIN:STANDARD
TZOFFSETFROM:-0700
TZOFFSETTO:-0800
TZNAME:PST
DTSTART:20251102T090000
END:STANDARD
BEGIN:DAYLIGHT
TZOFFSETFROM:-0800
TZOFFSETTO:-0700
TZNAME:PDT
DTSTART:20260308T100000
END:DAYLIGHT
BEGIN:STANDARD
TZOFFSETFROM:-0700
TZOFFSETTO:-0800
TZNAME:PST
DTSTART:20261101T090000
END:STANDARD
BEGIN:DAYLIGHT
TZOFFSETFROM:-0800
TZOFFSETTO:-0700
TZNAME:PDT
DTSTART:20270314T100000
END:DAYLIGHT
BEGIN:STANDARD
TZOFFSETFROM:-0700
TZOFFSETTO:-0800
TZNAME:PST
DTSTART:20271107T090000
END:STANDARD
END:VTIMEZONE
BEGIN:VEVENT
DTSTART;TZID=America/Los_Angeles:20260517T113000
DTEND;TZID=America/Los_Angeles:20260517T123000
DTSTAMP:20260421T060212
CREATED:20250819T190202Z
LAST-MODIFIED:20251218T200228Z
UID:10004828-1779017400-1779021000@sunset.church
SUMMARY:Middle School & High School Bible Study
DESCRIPTION:Middle school and high school students are invited to a weekly Bible study! If you’re a 6th-12th grade student who wants to go deeper in their faith and/or can’t make it to youth group on Wednesday evenings\, please join us after church on Sundays. We gather in the youth basement\, and snacks are provided!
URL:https://sunset.church/event/middle-school-high-school-bible-study/2026-05-17/
LOCATION:Sunset Church\, 14986 NW Cornell Rd\, Portland\, OR\, 97229\, United States
CATEGORIES:Sunset Youth
ATTACH;FMTTYPE=image/jpeg:https://sunset.church/wp-content/uploads/2025/08/MSHSBibleStudy.jpg
END:VEVENT
BEGIN:VEVENT
DTSTART;TZID=America/Los_Angeles:20260520T171500
DTEND;TZID=America/Los_Angeles:20260520T183000
DTSTAMP:20260421T060212
CREATED:20250918T225450Z
LAST-MODIFIED:20250918T225450Z
UID:10004903-1779297300-1779301800@sunset.church
SUMMARY:Sunset Youth: Student Tutoring
DESCRIPTION:Sunset Youth will begin offering free tutoring for middle and high school students in subjects like math\, science\, chemistry\, and more! \nStarting in October\, we’ll meet every 1st and 3rd Wednesday in Room 170 — right before youth group! Any student in the community is welcome to come for some extra support. \nWe already have some fantastic tutors\, and if you’d like to help out too\, we’d love to have you join our team and serve the students. Reach out to Carrie Peeples for more information or if you have any questions.
URL:https://sunset.church/event/sunset-youth-student-tutoring-2/2026-05-20/
CATEGORIES:Sunset Youth
ATTACH;FMTTYPE=image/jpeg:https://sunset.church/wp-content/uploads/2025/09/joshua-hoehne-AZrBFoXP_3I-unsplash-scaled.jpg
END:VEVENT
BEGIN:VEVENT
DTSTART;TZID=America/Los_Angeles:20260520T183000
DTEND;TZID=America/Los_Angeles:20260520T203000
DTSTAMP:20260421T060212
CREATED:20250818T041016Z
LAST-MODIFIED:20260313T214238Z
UID:10004599-1779301800-1779309000@sunset.church
SUMMARY:Wildfire – Middle School Youth Group
DESCRIPTION:Each week\, all 6th-8th grade students are invited to Wildfire — our middle school youth group!  Students are invited to come for a light dinner\, games\, community\, fun\, and God stuff every Wednesday night. \nWe start in the Fellowship Hall (near the East entry)\, head down to the youth space in the basement for worship\, and then upstairs for a message. We hope you’ll join us! \nTo learn more about Wildfire & Sunset Youth\, please click here.
URL:https://sunset.church/event/wildfire-2025/2026-05-20/
LOCATION:Sunset Church\, 14986 NW Cornell Rd\, Portland\, OR\, 97229\, United States
CATEGORIES:Sunset Youth
ATTACH;FMTTYPE=image/jpeg:https://sunset.church/wp-content/uploads/2024/07/event-images-1.jpg
END:VEVENT
BEGIN:VEVENT
DTSTART;TZID=America/Los_Angeles:20260520T190000
DTEND;TZID=America/Los_Angeles:20260520T210000
DTSTAMP:20260421T060212
CREATED:20250818T041137Z
LAST-MODIFIED:20260313T214302Z
UID:10004640-1779303600-1779310800@sunset.church
SUMMARY:Overflow – High School Youth Group
DESCRIPTION:All 9th-12th grade students are invited every Wednesday at the East Entry to Overflow\, our high school youth group. \nAs students navigate the world around them\, Overflow is a place where you can be yourselves and join others in community together! Are you ready for an exciting year filled with friendship\, fun\, and spiritual growth? \nTo learn more about Overflow & Sunset Youth\, please click here.
URL:https://sunset.church/event/overflow-2025/2026-05-20/
LOCATION:Sunset Church\, 14986 NW Cornell Rd\, Portland\, OR\, 97229\, United States
CATEGORIES:Sunset Youth
ATTACH;FMTTYPE=image/jpeg:https://sunset.church/wp-content/uploads/2024/07/event-images.jpg
END:VEVENT
BEGIN:VEVENT
DTSTART;TZID=America/Los_Angeles:20260524T113000
DTEND;TZID=America/Los_Angeles:20260524T123000
DTSTAMP:20260421T060212
CREATED:20250819T190202Z
LAST-MODIFIED:20251218T200228Z
UID:10004829-1779622200-1779625800@sunset.church
SUMMARY:Middle School & High School Bible Study
DESCRIPTION:Middle school and high school students are invited to a weekly Bible study! If you’re a 6th-12th grade student who wants to go deeper in their faith and/or can’t make it to youth group on Wednesday evenings\, please join us after church on Sundays. We gather in the youth basement\, and snacks are provided!
URL:https://sunset.church/event/middle-school-high-school-bible-study/2026-05-24/
LOCATION:Sunset Church\, 14986 NW Cornell Rd\, Portland\, OR\, 97229\, United States
CATEGORIES:Sunset Youth
ATTACH;FMTTYPE=image/jpeg:https://sunset.church/wp-content/uploads/2025/08/MSHSBibleStudy.jpg
END:VEVENT
BEGIN:VEVENT
DTSTART;TZID=America/Los_Angeles:20260527T183000
DTEND;TZID=America/Los_Angeles:20260527T203000
DTSTAMP:20260421T060212
CREATED:20250818T041016Z
LAST-MODIFIED:20260313T214238Z
UID:10004600-1779906600-1779913800@sunset.church
SUMMARY:Wildfire – Middle School Youth Group
DESCRIPTION:Each week\, all 6th-8th grade students are invited to Wildfire — our middle school youth group!  Students are invited to come for a light dinner\, games\, community\, fun\, and God stuff every Wednesday night. \nWe start in the Fellowship Hall (near the East entry)\, head down to the youth space in the basement for worship\, and then upstairs for a message. We hope you’ll join us! \nTo learn more about Wildfire & Sunset Youth\, please click here.
URL:https://sunset.church/event/wildfire-2025/2026-05-27/
LOCATION:Sunset Church\, 14986 NW Cornell Rd\, Portland\, OR\, 97229\, United States
CATEGORIES:Sunset Youth
ATTACH;FMTTYPE=image/jpeg:https://sunset.church/wp-content/uploads/2024/07/event-images-1.jpg
END:VEVENT
BEGIN:VEVENT
DTSTART;TZID=America/Los_Angeles:20260527T190000
DTEND;TZID=America/Los_Angeles:20260527T210000
DTSTAMP:20260421T060212
CREATED:20250818T041137Z
LAST-MODIFIED:20260313T214302Z
UID:10004641-1779908400-1779915600@sunset.church
SUMMARY:Overflow – High School Youth Group
DESCRIPTION:All 9th-12th grade students are invited every Wednesday at the East Entry to Overflow\, our high school youth group. \nAs students navigate the world around them\, Overflow is a place where you can be yourselves and join others in community together! Are you ready for an exciting year filled with friendship\, fun\, and spiritual growth? \nTo learn more about Overflow & Sunset Youth\, please click here.
URL:https://sunset.church/event/overflow-2025/2026-05-27/
LOCATION:Sunset Church\, 14986 NW Cornell Rd\, Portland\, OR\, 97229\, United States
CATEGORIES:Sunset Youth
ATTACH;FMTTYPE=image/jpeg:https://sunset.church/wp-content/uploads/2024/07/event-images.jpg
END:VEVENT
BEGIN:VEVENT
DTSTART;TZID=America/Los_Angeles:20260531T113000
DTEND;TZID=America/Los_Angeles:20260531T123000
DTSTAMP:20260421T060212
CREATED:20250819T190202Z
LAST-MODIFIED:20251218T200228Z
UID:10004830-1780227000-1780230600@sunset.church
SUMMARY:Middle School & High School Bible Study
DESCRIPTION:Middle school and high school students are invited to a weekly Bible study! If you’re a 6th-12th grade student who wants to go deeper in their faith and/or can’t make it to youth group on Wednesday evenings\, please join us after church on Sundays. We gather in the youth basement\, and snacks are provided!
URL:https://sunset.church/event/middle-school-high-school-bible-study/2026-05-31/
LOCATION:Sunset Church\, 14986 NW Cornell Rd\, Portland\, OR\, 97229\, United States
CATEGORIES:Sunset Youth
ATTACH;FMTTYPE=image/jpeg:https://sunset.church/wp-content/uploads/2025/08/MSHSBibleStudy.jpg
END:VEVENT
BEGIN:VEVENT
DTSTART;TZID=America/Los_Angeles:20260603T171500
DTEND;TZID=America/Los_Angeles:20260603T183000
DTSTAMP:20260421T060212
CREATED:20250918T225323Z
LAST-MODIFIED:20250918T225323Z
UID:10004895-1780506900-1780511400@sunset.church
SUMMARY:Sunset Youth: Student Tutoring
DESCRIPTION:Sunset Youth will begin offering free tutoring for middle and high school students in subjects like math\, science\, chemistry\, and more! \nStarting in October\, we’ll meet every 1st and 3rd Wednesday in Room 170 — right before youth group! Any student in the community is welcome to come for some extra support. \nWe already have some fantastic tutors\, and if you’d like to help out too\, we’d love to have you join our team and serve the students. Reach out to Carrie Peeples for more information or if you have any questions.
URL:https://sunset.church/event/sunset-youth-student-tutoring/2026-06-03/
CATEGORIES:Sunset Youth
ATTACH;FMTTYPE=image/jpeg:https://sunset.church/wp-content/uploads/2025/09/joshua-hoehne-AZrBFoXP_3I-unsplash-scaled.jpg
END:VEVENT
BEGIN:VEVENT
DTSTART;TZID=America/Los_Angeles:20260603T183000
DTEND;TZID=America/Los_Angeles:20260603T203000
DTSTAMP:20260421T060212
CREATED:20250818T041016Z
LAST-MODIFIED:20260313T214238Z
UID:10004601-1780511400-1780518600@sunset.church
SUMMARY:Wildfire – Middle School Youth Group
DESCRIPTION:Each week\, all 6th-8th grade students are invited to Wildfire — our middle school youth group!  Students are invited to come for a light dinner\, games\, community\, fun\, and God stuff every Wednesday night. \nWe start in the Fellowship Hall (near the East entry)\, head down to the youth space in the basement for worship\, and then upstairs for a message. We hope you’ll join us! \nTo learn more about Wildfire & Sunset Youth\, please click here.
URL:https://sunset.church/event/wildfire-2025/2026-06-03/
LOCATION:Sunset Church\, 14986 NW Cornell Rd\, Portland\, OR\, 97229\, United States
CATEGORIES:Sunset Youth
ATTACH;FMTTYPE=image/jpeg:https://sunset.church/wp-content/uploads/2024/07/event-images-1.jpg
END:VEVENT
BEGIN:VEVENT
DTSTART;TZID=America/Los_Angeles:20260603T190000
DTEND;TZID=America/Los_Angeles:20260603T210000
DTSTAMP:20260421T060212
CREATED:20250818T041137Z
LAST-MODIFIED:20260313T214302Z
UID:10004642-1780513200-1780520400@sunset.church
SUMMARY:Overflow – High School Youth Group
DESCRIPTION:All 9th-12th grade students are invited every Wednesday at the East Entry to Overflow\, our high school youth group. \nAs students navigate the world around them\, Overflow is a place where you can be yourselves and join others in community together! Are you ready for an exciting year filled with friendship\, fun\, and spiritual growth? \nTo learn more about Overflow & Sunset Youth\, please click here.
URL:https://sunset.church/event/overflow-2025/2026-06-03/
LOCATION:Sunset Church\, 14986 NW Cornell Rd\, Portland\, OR\, 97229\, United States
CATEGORIES:Sunset Youth
ATTACH;FMTTYPE=image/jpeg:https://sunset.church/wp-content/uploads/2024/07/event-images.jpg
END:VEVENT
BEGIN:VEVENT
DTSTART;TZID=America/Los_Angeles:20260607T113000
DTEND;TZID=America/Los_Angeles:20260607T123000
DTSTAMP:20260421T060212
CREATED:20250819T190202Z
LAST-MODIFIED:20251218T200228Z
UID:10004831-1780831800-1780835400@sunset.church
SUMMARY:Middle School & High School Bible Study
DESCRIPTION:Middle school and high school students are invited to a weekly Bible study! If you’re a 6th-12th grade student who wants to go deeper in their faith and/or can’t make it to youth group on Wednesday evenings\, please join us after church on Sundays. We gather in the youth basement\, and snacks are provided!
URL:https://sunset.church/event/middle-school-high-school-bible-study/2026-06-07/
LOCATION:Sunset Church\, 14986 NW Cornell Rd\, Portland\, OR\, 97229\, United States
CATEGORIES:Sunset Youth
ATTACH;FMTTYPE=image/jpeg:https://sunset.church/wp-content/uploads/2025/08/MSHSBibleStudy.jpg
END:VEVENT
BEGIN:VEVENT
DTSTART;TZID=America/Los_Angeles:20260610T183000
DTEND;TZID=America/Los_Angeles:20260610T203000
DTSTAMP:20260421T060212
CREATED:20250818T041016Z
LAST-MODIFIED:20260313T214238Z
UID:10004602-1781116200-1781123400@sunset.church
SUMMARY:Wildfire – Middle School Youth Group
DESCRIPTION:Each week\, all 6th-8th grade students are invited to Wildfire — our middle school youth group!  Students are invited to come for a light dinner\, games\, community\, fun\, and God stuff every Wednesday night. \nWe start in the Fellowship Hall (near the East entry)\, head down to the youth space in the basement for worship\, and then upstairs for a message. We hope you’ll join us! \nTo learn more about Wildfire & Sunset Youth\, please click here.
URL:https://sunset.church/event/wildfire-2025/2026-06-10/
LOCATION:Sunset Church\, 14986 NW Cornell Rd\, Portland\, OR\, 97229\, United States
CATEGORIES:Sunset Youth
ATTACH;FMTTYPE=image/jpeg:https://sunset.church/wp-content/uploads/2024/07/event-images-1.jpg
END:VEVENT
BEGIN:VEVENT
DTSTART;TZID=America/Los_Angeles:20260610T190000
DTEND;TZID=America/Los_Angeles:20260610T210000
DTSTAMP:20260421T060212
CREATED:20250818T041137Z
LAST-MODIFIED:20260313T214302Z
UID:10004643-1781118000-1781125200@sunset.church
SUMMARY:Overflow – High School Youth Group
DESCRIPTION:All 9th-12th grade students are invited every Wednesday at the East Entry to Overflow\, our high school youth group. \nAs students navigate the world around them\, Overflow is a place where you can be yourselves and join others in community together! Are you ready for an exciting year filled with friendship\, fun\, and spiritual growth? \nTo learn more about Overflow & Sunset Youth\, please click here.
URL:https://sunset.church/event/overflow-2025/2026-06-10/
LOCATION:Sunset Church\, 14986 NW Cornell Rd\, Portland\, OR\, 97229\, United States
CATEGORIES:Sunset Youth
ATTACH;FMTTYPE=image/jpeg:https://sunset.church/wp-content/uploads/2024/07/event-images.jpg
END:VEVENT
BEGIN:VEVENT
DTSTART;TZID=America/Los_Angeles:20260614T113000
DTEND;TZID=America/Los_Angeles:20260614T123000
DTSTAMP:20260421T060212
CREATED:20250819T190202Z
LAST-MODIFIED:20251218T200228Z
UID:10004832-1781436600-1781440200@sunset.church
SUMMARY:Middle School & High School Bible Study
DESCRIPTION:Middle school and high school students are invited to a weekly Bible study! If you’re a 6th-12th grade student who wants to go deeper in their faith and/or can’t make it to youth group on Wednesday evenings\, please join us after church on Sundays. We gather in the youth basement\, and snacks are provided!
URL:https://sunset.church/event/middle-school-high-school-bible-study/2026-06-14/
LOCATION:Sunset Church\, 14986 NW Cornell Rd\, Portland\, OR\, 97229\, United States
CATEGORIES:Sunset Youth
ATTACH;FMTTYPE=image/jpeg:https://sunset.church/wp-content/uploads/2025/08/MSHSBibleStudy.jpg
END:VEVENT
BEGIN:VEVENT
DTSTART;VALUE=DATE:20260705
DTEND;VALUE=DATE:20260710
DTSTAMP:20260421T060212
CREATED:20260312T054050Z
LAST-MODIFIED:20260312T054050Z
UID:10005037-1783209600-1783641599@sunset.church
SUMMARY:CIY MIX - Middle School Summer Camp
DESCRIPTION:We’re so excited to be going back to MIX at Washington Family Ranch (Canyon side). \nAt camp\, students will enjoy fun games and camp activities (swimming pool\, recreation building with rock climbing wall\, pool tables\, basketball\, gaga ball)\, volleyball\, zipline\, giant swing and more. There will be crazy large group games\, worship\, programming and talks designed to introduce your student to Jesus and/or grow in their faith. Camp is always full of friends\, fun\, candy\, a little cabin drama\, the camp high\, maybe some sunburns and hopefully new and deeper community as they wrap up the school year and get ready for the next transition. Cabins are normally determined by friends and small group and\, of course\, trusted adults to journey with them through the fun! \nLEARN MORE & REGISTER >>>
URL:https://sunset.church/event/ciy-mix-middle-school-summer-camp/
LOCATION:Washington Family Ranch\, 1 Muddy Rd\, Antelope\, OR\, 97001\, United States
CATEGORIES:Sunset Youth
ATTACH;FMTTYPE=image/png:https://sunset.church/wp-content/uploads/2026/03/1920x1080-slide.png
END:VEVENT
BEGIN:VEVENT
DTSTART;VALUE=DATE:20260802
DTEND;VALUE=DATE:20260809
DTSTAMP:20260421T060212
CREATED:20260312T054936Z
LAST-MODIFIED:20260312T054956Z
UID:10005038-1785628800-1786233599@sunset.church
SUMMARY:Camp Firwood - High School Summer Camp
DESCRIPTION:For incoming 9th graders through graduated seniors\, we’re going to Camp Firwood in Bellingham\, Washington for summer camp! \nFrom August 2nd to August 8th\, students get to spend time by the lakefront together as they grow closer to God and each other. This camp also has so many fun activities like boating\, wake surfing\, paint ball\, ropes course\, zip line\, art & crafts\, and so much more. Overall\, this is going to be a great summer for the students\, and registration for high school and middle school are open now. \nWe’ll be departing the Sunset Church parking lot at 9 am on Sunday\, August 2\, and returning on Saturday afternoon\, August 8. \nREGISTER >>>
URL:https://sunset.church/event/camp-firwood-high-school-summer-camp/
LOCATION:Camp Firwood\, 1740 Lake Whatcom Blvd\, Bellingham\, Washington\, 98229
CATEGORIES:Sunset Youth
ATTACH;FMTTYPE=image/jpeg:https://sunset.church/wp-content/uploads/2026/03/medium_image-1772144299863.jpeg
END:VEVENT
END:VCALENDAR