BEGIN:VCALENDAR
VERSION:2.0
PRODID:-//Sunset Church - ECPv6.15.20//NONSGML v1.0//EN
CALSCALE:GREGORIAN
METHOD:PUBLISH
X-WR-CALNAME:Sunset Church
X-ORIGINAL-URL:https://sunset.church
X-WR-CALDESC:Events for Sunset Church
REFRESH-INTERVAL;VALUE=DURATION:PT1H
X-Robots-Tag:noindex
X-PUBLISHED-TTL:PT1H
BEGIN:VTIMEZONE
TZID:America/Los_Angeles
BEGIN:DAYLIGHT
TZOFFSETFROM:-0800
TZOFFSETTO:-0700
TZNAME:PDT
DTSTART:20240310T100000
END:DAYLIGHT
BEGIN:STANDARD
TZOFFSETFROM:-0700
TZOFFSETTO:-0800
TZNAME:PST
DTSTART:20241103T090000
END:STANDARD
BEGIN:DAYLIGHT
TZOFFSETFROM:-0800
TZOFFSETTO:-0700
TZNAME:PDT
DTSTART:20250309T100000
END:DAYLIGHT
BEGIN:STANDARD
TZOFFSETFROM:-0700
TZOFFSETTO:-0800
TZNAME:PST
DTSTART:20251102T090000
END:STANDARD
BEGIN:DAYLIGHT
TZOFFSETFROM:-0800
TZOFFSETTO:-0700
TZNAME:PDT
DTSTART:20260308T100000
END:DAYLIGHT
BEGIN:STANDARD
TZOFFSETFROM:-0700
TZOFFSETTO:-0800
TZNAME:PST
DTSTART:20261101T090000
END:STANDARD
END:VTIMEZONE
BEGIN:VEVENT
DTSTART;TZID=America/Los_Angeles:20250208T103000
DTEND;TZID=America/Los_Angeles:20250208T113000
DTSTAMP:20260423T133256
CREATED:20250103T222530Z
LAST-MODIFIED:20250204T051942Z
UID:10003602-1739010600-1739014200@sunset.church
SUMMARY:Japanese American Museum: Enduring Hardship with Dignity "Gaman"
DESCRIPTION:Meet the Racial Justice Ministry team at the Japanese American Museum of Oregon as docent Yukiko Flennaugh leads a tour. Recommended for middle school and up. Museum cost covered\, optional lunch after tour. We encourage taking Max or carpooling. Only street or garage parking near the museum. \nREGISTER HERE >>> \nOr you can register by emailing Yukiko! \nAddress: 411 NW Flanders St STE 100\, Portland\, OR 97209
URL:https://sunset.church/event/enduring-hardship-with-dignity-gaman/
LOCATION:Japanese American Museum of Oregon\, 411 NW Flanders St STE 100\, Portland\, OR\, 97209\, United States
CATEGORIES:Racial Justice
ATTACH;FMTTYPE=image/jpeg:https://sunset.church/wp-content/uploads/2025/01/Racial-Justice-Rhythm-Slide-scaled.jpg
END:VEVENT
BEGIN:VEVENT
DTSTART;TZID=America/Los_Angeles:20250209T113000
DTEND;TZID=America/Los_Angeles:20250209T123000
DTSTAMP:20260423T133256
CREATED:20240724T223400Z
LAST-MODIFIED:20250501T230454Z
UID:10003270-1739100600-1739104200@sunset.church
SUMMARY:Middle School Bible Study
DESCRIPTION:All 6th-8th graders are invited to join us on Sundays in the basement (Youth Room) for our weekly Bible study. Snacks are provided! See you there.
URL:https://sunset.church/event/middle-school-bible-study-2/2025-02-09/
LOCATION:Sunset Church\, 14986 NW Cornell Rd\, Portland\, OR\, 97229\, United States
CATEGORIES:Sunset Youth
END:VEVENT
BEGIN:VEVENT
DTSTART;TZID=America/Los_Angeles:20250212T183000
DTEND;TZID=America/Los_Angeles:20250212T203000
DTSTAMP:20260423T133256
CREATED:20240724T225639Z
LAST-MODIFIED:20250501T230302Z
UID:10003308-1739385000-1739392200@sunset.church
SUMMARY:Wildfire - Middle School Youth Group
DESCRIPTION:Each week\, all 6th-8th grade students are invited to Wildfire — our middle school youth group!  Students are invited to come for games\, community\, fun\, and God stuff every Wednesday night. \nWe start in the Fellowship Hall (near the East entry)\, head down to the youth space in the basement for worship\, and then upstairs for a message. We hope you’ll join us! \nTo learn more about Wildfire & Sunset Youth\, please click here.
URL:https://sunset.church/event/wildfire-middle-school-youth-group/2025-02-12/
LOCATION:Sunset Church\, 14986 NW Cornell Rd\, Portland\, OR\, 97229\, United States
CATEGORIES:Sunset Youth
ATTACH;FMTTYPE=image/jpeg:https://sunset.church/wp-content/uploads/2024/07/event-images-1.jpg
END:VEVENT
BEGIN:VEVENT
DTSTART;TZID=America/Los_Angeles:20250216T113000
DTEND;TZID=America/Los_Angeles:20250216T123000
DTSTAMP:20260423T133256
CREATED:20240724T223400Z
LAST-MODIFIED:20250501T230454Z
UID:10003271-1739705400-1739709000@sunset.church
SUMMARY:Middle School Bible Study
DESCRIPTION:All 6th-8th graders are invited to join us on Sundays in the basement (Youth Room) for our weekly Bible study. Snacks are provided! See you there.
URL:https://sunset.church/event/middle-school-bible-study-2/2025-02-16/
LOCATION:Sunset Church\, 14986 NW Cornell Rd\, Portland\, OR\, 97229\, United States
CATEGORIES:Sunset Youth
END:VEVENT
BEGIN:VEVENT
DTSTART;TZID=America/Los_Angeles:20250219T183000
DTEND;TZID=America/Los_Angeles:20250219T203000
DTSTAMP:20260423T133256
CREATED:20240724T225639Z
LAST-MODIFIED:20250501T230302Z
UID:10003309-1739989800-1739997000@sunset.church
SUMMARY:Wildfire - Middle School Youth Group
DESCRIPTION:Each week\, all 6th-8th grade students are invited to Wildfire — our middle school youth group!  Students are invited to come for games\, community\, fun\, and God stuff every Wednesday night. \nWe start in the Fellowship Hall (near the East entry)\, head down to the youth space in the basement for worship\, and then upstairs for a message. We hope you’ll join us! \nTo learn more about Wildfire & Sunset Youth\, please click here.
URL:https://sunset.church/event/wildfire-middle-school-youth-group/2025-02-19/
LOCATION:Sunset Church\, 14986 NW Cornell Rd\, Portland\, OR\, 97229\, United States
CATEGORIES:Sunset Youth
ATTACH;FMTTYPE=image/jpeg:https://sunset.church/wp-content/uploads/2024/07/event-images-1.jpg
END:VEVENT
BEGIN:VEVENT
DTSTART;TZID=America/Los_Angeles:20250223T113000
DTEND;TZID=America/Los_Angeles:20250223T123000
DTSTAMP:20260423T133256
CREATED:20240724T223400Z
LAST-MODIFIED:20250501T230454Z
UID:10003272-1740310200-1740313800@sunset.church
SUMMARY:Middle School Bible Study
DESCRIPTION:All 6th-8th graders are invited to join us on Sundays in the basement (Youth Room) for our weekly Bible study. Snacks are provided! See you there.
URL:https://sunset.church/event/middle-school-bible-study-2/2025-02-23/
LOCATION:Sunset Church\, 14986 NW Cornell Rd\, Portland\, OR\, 97229\, United States
CATEGORIES:Sunset Youth
END:VEVENT
BEGIN:VEVENT
DTSTART;TZID=America/Los_Angeles:20250226T183000
DTEND;TZID=America/Los_Angeles:20250226T203000
DTSTAMP:20260423T133256
CREATED:20240724T225639Z
LAST-MODIFIED:20250501T230302Z
UID:10003310-1740594600-1740601800@sunset.church
SUMMARY:Wildfire - Middle School Youth Group
DESCRIPTION:Each week\, all 6th-8th grade students are invited to Wildfire — our middle school youth group!  Students are invited to come for games\, community\, fun\, and God stuff every Wednesday night. \nWe start in the Fellowship Hall (near the East entry)\, head down to the youth space in the basement for worship\, and then upstairs for a message. We hope you’ll join us! \nTo learn more about Wildfire & Sunset Youth\, please click here.
URL:https://sunset.church/event/wildfire-middle-school-youth-group/2025-02-26/
LOCATION:Sunset Church\, 14986 NW Cornell Rd\, Portland\, OR\, 97229\, United States
CATEGORIES:Sunset Youth
ATTACH;FMTTYPE=image/jpeg:https://sunset.church/wp-content/uploads/2024/07/event-images-1.jpg
END:VEVENT
BEGIN:VEVENT
DTSTART;TZID=America/Los_Angeles:20250302T113000
DTEND;TZID=America/Los_Angeles:20250302T123000
DTSTAMP:20260423T133256
CREATED:20240724T223400Z
LAST-MODIFIED:20250501T230454Z
UID:10003273-1740915000-1740918600@sunset.church
SUMMARY:Middle School Bible Study
DESCRIPTION:All 6th-8th graders are invited to join us on Sundays in the basement (Youth Room) for our weekly Bible study. Snacks are provided! See you there.
URL:https://sunset.church/event/middle-school-bible-study-2/2025-03-02/
LOCATION:Sunset Church\, 14986 NW Cornell Rd\, Portland\, OR\, 97229\, United States
CATEGORIES:Sunset Youth
END:VEVENT
BEGIN:VEVENT
DTSTART;TZID=America/Los_Angeles:20250305T183000
DTEND;TZID=America/Los_Angeles:20250305T203000
DTSTAMP:20260423T133256
CREATED:20240724T225639Z
LAST-MODIFIED:20250501T230302Z
UID:10003311-1741199400-1741206600@sunset.church
SUMMARY:Wildfire - Middle School Youth Group
DESCRIPTION:Each week\, all 6th-8th grade students are invited to Wildfire — our middle school youth group!  Students are invited to come for games\, community\, fun\, and God stuff every Wednesday night. \nWe start in the Fellowship Hall (near the East entry)\, head down to the youth space in the basement for worship\, and then upstairs for a message. We hope you’ll join us! \nTo learn more about Wildfire & Sunset Youth\, please click here.
URL:https://sunset.church/event/wildfire-middle-school-youth-group/2025-03-05/
LOCATION:Sunset Church\, 14986 NW Cornell Rd\, Portland\, OR\, 97229\, United States
CATEGORIES:Sunset Youth
ATTACH;FMTTYPE=image/jpeg:https://sunset.church/wp-content/uploads/2024/07/event-images-1.jpg
END:VEVENT
BEGIN:VEVENT
DTSTART;TZID=America/Los_Angeles:20250309T113000
DTEND;TZID=America/Los_Angeles:20250309T123000
DTSTAMP:20260423T133256
CREATED:20240724T223400Z
LAST-MODIFIED:20250501T230454Z
UID:10003274-1741519800-1741523400@sunset.church
SUMMARY:Middle School Bible Study
DESCRIPTION:All 6th-8th graders are invited to join us on Sundays in the basement (Youth Room) for our weekly Bible study. Snacks are provided! See you there.
URL:https://sunset.church/event/middle-school-bible-study-2/2025-03-09/
LOCATION:Sunset Church\, 14986 NW Cornell Rd\, Portland\, OR\, 97229\, United States
CATEGORIES:Sunset Youth
END:VEVENT
BEGIN:VEVENT
DTSTART;TZID=America/Los_Angeles:20250312T183000
DTEND;TZID=America/Los_Angeles:20250312T203000
DTSTAMP:20260423T133256
CREATED:20240724T225639Z
LAST-MODIFIED:20250501T230302Z
UID:10003312-1741804200-1741811400@sunset.church
SUMMARY:Wildfire - Middle School Youth Group
DESCRIPTION:Each week\, all 6th-8th grade students are invited to Wildfire — our middle school youth group!  Students are invited to come for games\, community\, fun\, and God stuff every Wednesday night. \nWe start in the Fellowship Hall (near the East entry)\, head down to the youth space in the basement for worship\, and then upstairs for a message. We hope you’ll join us! \nTo learn more about Wildfire & Sunset Youth\, please click here.
URL:https://sunset.church/event/wildfire-middle-school-youth-group/2025-03-12/
LOCATION:Sunset Church\, 14986 NW Cornell Rd\, Portland\, OR\, 97229\, United States
CATEGORIES:Sunset Youth
ATTACH;FMTTYPE=image/jpeg:https://sunset.church/wp-content/uploads/2024/07/event-images-1.jpg
END:VEVENT
BEGIN:VEVENT
DTSTART;TZID=America/Los_Angeles:20250315T170000
DTEND;TZID=America/Los_Angeles:20250315T233000
DTSTAMP:20260423T133256
CREATED:20250122T195218Z
LAST-MODIFIED:20250131T194116Z
UID:10003610-1742058000-1742081400@sunset.church
SUMMARY:EVRYTYN Night
DESCRIPTION:Middle School EVRYTYN Night is a big night of ALL THE THINGS our students have been asking to do: NERF\, all-building scavenger hunt\, Nintendo tournament\, movie\, games\, pizza and popcorn and all the snacks. \nNo registration is required! Just show up ready to hang out with friends. \nIt’s going to be EVRYTYN!
URL:https://sunset.church/event/evrytyn-night/
LOCATION:Sunset Church\, 14986 NW Cornell Rd\, Portland\, OR\, 97229\, United States
CATEGORIES:Sunset Youth
ATTACH;FMTTYPE=image/png:https://sunset.church/wp-content/uploads/2025/01/EVRYTYN-1.png
END:VEVENT
BEGIN:VEVENT
DTSTART;TZID=America/Los_Angeles:20250316T113000
DTEND;TZID=America/Los_Angeles:20250316T123000
DTSTAMP:20260423T133256
CREATED:20240724T223400Z
LAST-MODIFIED:20250501T230454Z
UID:10003275-1742124600-1742128200@sunset.church
SUMMARY:Middle School Bible Study
DESCRIPTION:All 6th-8th graders are invited to join us on Sundays in the basement (Youth Room) for our weekly Bible study. Snacks are provided! See you there.
URL:https://sunset.church/event/middle-school-bible-study-2/2025-03-16/
LOCATION:Sunset Church\, 14986 NW Cornell Rd\, Portland\, OR\, 97229\, United States
CATEGORIES:Sunset Youth
END:VEVENT
BEGIN:VEVENT
DTSTART;TZID=America/Los_Angeles:20250319T183000
DTEND;TZID=America/Los_Angeles:20250319T203000
DTSTAMP:20260423T133256
CREATED:20240724T225639Z
LAST-MODIFIED:20250501T230302Z
UID:10003313-1742409000-1742416200@sunset.church
SUMMARY:Wildfire - Middle School Youth Group
DESCRIPTION:Each week\, all 6th-8th grade students are invited to Wildfire — our middle school youth group!  Students are invited to come for games\, community\, fun\, and God stuff every Wednesday night. \nWe start in the Fellowship Hall (near the East entry)\, head down to the youth space in the basement for worship\, and then upstairs for a message. We hope you’ll join us! \nTo learn more about Wildfire & Sunset Youth\, please click here.
URL:https://sunset.church/event/wildfire-middle-school-youth-group/2025-03-19/
LOCATION:Sunset Church\, 14986 NW Cornell Rd\, Portland\, OR\, 97229\, United States
CATEGORIES:Sunset Youth
ATTACH;FMTTYPE=image/jpeg:https://sunset.church/wp-content/uploads/2024/07/event-images-1.jpg
END:VEVENT
BEGIN:VEVENT
DTSTART;TZID=America/Los_Angeles:20250323T113000
DTEND;TZID=America/Los_Angeles:20250323T123000
DTSTAMP:20260423T133256
CREATED:20240724T223400Z
LAST-MODIFIED:20250501T230454Z
UID:10003276-1742729400-1742733000@sunset.church
SUMMARY:Middle School Bible Study
DESCRIPTION:All 6th-8th graders are invited to join us on Sundays in the basement (Youth Room) for our weekly Bible study. Snacks are provided! See you there.
URL:https://sunset.church/event/middle-school-bible-study-2/2025-03-23/
LOCATION:Sunset Church\, 14986 NW Cornell Rd\, Portland\, OR\, 97229\, United States
CATEGORIES:Sunset Youth
END:VEVENT
BEGIN:VEVENT
DTSTART;TZID=America/Los_Angeles:20250402T183000
DTEND;TZID=America/Los_Angeles:20250402T203000
DTSTAMP:20260423T133256
CREATED:20240724T225639Z
LAST-MODIFIED:20250501T230302Z
UID:10003314-1743618600-1743625800@sunset.church
SUMMARY:Wildfire - Middle School Youth Group
DESCRIPTION:Each week\, all 6th-8th grade students are invited to Wildfire — our middle school youth group!  Students are invited to come for games\, community\, fun\, and God stuff every Wednesday night. \nWe start in the Fellowship Hall (near the East entry)\, head down to the youth space in the basement for worship\, and then upstairs for a message. We hope you’ll join us! \nTo learn more about Wildfire & Sunset Youth\, please click here.
URL:https://sunset.church/event/wildfire-middle-school-youth-group/2025-04-02/
LOCATION:Sunset Church\, 14986 NW Cornell Rd\, Portland\, OR\, 97229\, United States
CATEGORIES:Sunset Youth
ATTACH;FMTTYPE=image/jpeg:https://sunset.church/wp-content/uploads/2024/07/event-images-1.jpg
END:VEVENT
BEGIN:VEVENT
DTSTART;TZID=America/Los_Angeles:20250406T113000
DTEND;TZID=America/Los_Angeles:20250406T123000
DTSTAMP:20260423T133256
CREATED:20240724T223400Z
LAST-MODIFIED:20250501T230454Z
UID:10003277-1743939000-1743942600@sunset.church
SUMMARY:Middle School Bible Study
DESCRIPTION:All 6th-8th graders are invited to join us on Sundays in the basement (Youth Room) for our weekly Bible study. Snacks are provided! See you there.
URL:https://sunset.church/event/middle-school-bible-study-2/2025-04-06/
LOCATION:Sunset Church\, 14986 NW Cornell Rd\, Portland\, OR\, 97229\, United States
CATEGORIES:Sunset Youth
END:VEVENT
BEGIN:VEVENT
DTSTART;TZID=America/Los_Angeles:20250409T183000
DTEND;TZID=America/Los_Angeles:20250409T203000
DTSTAMP:20260423T133256
CREATED:20240724T225639Z
LAST-MODIFIED:20250501T230302Z
UID:10003315-1744223400-1744230600@sunset.church
SUMMARY:Wildfire - Middle School Youth Group
DESCRIPTION:Each week\, all 6th-8th grade students are invited to Wildfire — our middle school youth group!  Students are invited to come for games\, community\, fun\, and God stuff every Wednesday night. \nWe start in the Fellowship Hall (near the East entry)\, head down to the youth space in the basement for worship\, and then upstairs for a message. We hope you’ll join us! \nTo learn more about Wildfire & Sunset Youth\, please click here.
URL:https://sunset.church/event/wildfire-middle-school-youth-group/2025-04-09/
LOCATION:Sunset Church\, 14986 NW Cornell Rd\, Portland\, OR\, 97229\, United States
CATEGORIES:Sunset Youth
ATTACH;FMTTYPE=image/jpeg:https://sunset.church/wp-content/uploads/2024/07/event-images-1.jpg
END:VEVENT
BEGIN:VEVENT
DTSTART;TZID=America/Los_Angeles:20250413T113000
DTEND;TZID=America/Los_Angeles:20250413T123000
DTSTAMP:20260423T133256
CREATED:20240724T223400Z
LAST-MODIFIED:20250501T230454Z
UID:10003278-1744543800-1744547400@sunset.church
SUMMARY:Middle School Bible Study
DESCRIPTION:All 6th-8th graders are invited to join us on Sundays in the basement (Youth Room) for our weekly Bible study. Snacks are provided! See you there.
URL:https://sunset.church/event/middle-school-bible-study-2/2025-04-13/
LOCATION:Sunset Church\, 14986 NW Cornell Rd\, Portland\, OR\, 97229\, United States
CATEGORIES:Sunset Youth
END:VEVENT
BEGIN:VEVENT
DTSTART;TZID=America/Los_Angeles:20250416T183000
DTEND;TZID=America/Los_Angeles:20250416T203000
DTSTAMP:20260423T133256
CREATED:20240724T225639Z
LAST-MODIFIED:20250501T230302Z
UID:10003316-1744828200-1744835400@sunset.church
SUMMARY:Wildfire - Middle School Youth Group
DESCRIPTION:Each week\, all 6th-8th grade students are invited to Wildfire — our middle school youth group!  Students are invited to come for games\, community\, fun\, and God stuff every Wednesday night. \nWe start in the Fellowship Hall (near the East entry)\, head down to the youth space in the basement for worship\, and then upstairs for a message. We hope you’ll join us! \nTo learn more about Wildfire & Sunset Youth\, please click here.
URL:https://sunset.church/event/wildfire-middle-school-youth-group/2025-04-16/
LOCATION:Sunset Church\, 14986 NW Cornell Rd\, Portland\, OR\, 97229\, United States
CATEGORIES:Sunset Youth
ATTACH;FMTTYPE=image/jpeg:https://sunset.church/wp-content/uploads/2024/07/event-images-1.jpg
END:VEVENT
BEGIN:VEVENT
DTSTART;TZID=America/Los_Angeles:20250420T113000
DTEND;TZID=America/Los_Angeles:20250420T123000
DTSTAMP:20260423T133256
CREATED:20240724T223400Z
LAST-MODIFIED:20250501T230454Z
UID:10003279-1745148600-1745152200@sunset.church
SUMMARY:Middle School Bible Study
DESCRIPTION:All 6th-8th graders are invited to join us on Sundays in the basement (Youth Room) for our weekly Bible study. Snacks are provided! See you there.
URL:https://sunset.church/event/middle-school-bible-study-2/2025-04-20/
LOCATION:Sunset Church\, 14986 NW Cornell Rd\, Portland\, OR\, 97229\, United States
CATEGORIES:Sunset Youth
END:VEVENT
BEGIN:VEVENT
DTSTART;TZID=America/Los_Angeles:20250423T183000
DTEND;TZID=America/Los_Angeles:20250423T203000
DTSTAMP:20260423T133256
CREATED:20240724T225639Z
LAST-MODIFIED:20250501T230302Z
UID:10003317-1745433000-1745440200@sunset.church
SUMMARY:Wildfire - Middle School Youth Group
DESCRIPTION:Each week\, all 6th-8th grade students are invited to Wildfire — our middle school youth group!  Students are invited to come for games\, community\, fun\, and God stuff every Wednesday night. \nWe start in the Fellowship Hall (near the East entry)\, head down to the youth space in the basement for worship\, and then upstairs for a message. We hope you’ll join us! \nTo learn more about Wildfire & Sunset Youth\, please click here.
URL:https://sunset.church/event/wildfire-middle-school-youth-group/2025-04-23/
LOCATION:Sunset Church\, 14986 NW Cornell Rd\, Portland\, OR\, 97229\, United States
CATEGORIES:Sunset Youth
ATTACH;FMTTYPE=image/jpeg:https://sunset.church/wp-content/uploads/2024/07/event-images-1.jpg
END:VEVENT
BEGIN:VEVENT
DTSTART;TZID=America/Los_Angeles:20250427T113000
DTEND;TZID=America/Los_Angeles:20250427T123000
DTSTAMP:20260423T133256
CREATED:20240724T223400Z
LAST-MODIFIED:20250501T230454Z
UID:10003280-1745753400-1745757000@sunset.church
SUMMARY:Middle School Bible Study
DESCRIPTION:All 6th-8th graders are invited to join us on Sundays in the basement (Youth Room) for our weekly Bible study. Snacks are provided! See you there.
URL:https://sunset.church/event/middle-school-bible-study-2/2025-04-27/
LOCATION:Sunset Church\, 14986 NW Cornell Rd\, Portland\, OR\, 97229\, United States
CATEGORIES:Sunset Youth
END:VEVENT
BEGIN:VEVENT
DTSTART;TZID=America/Los_Angeles:20250430T183000
DTEND;TZID=America/Los_Angeles:20250430T203000
DTSTAMP:20260423T133256
CREATED:20240724T225639Z
LAST-MODIFIED:20250501T230302Z
UID:10003318-1746037800-1746045000@sunset.church
SUMMARY:Wildfire - Middle School Youth Group
DESCRIPTION:Each week\, all 6th-8th grade students are invited to Wildfire — our middle school youth group!  Students are invited to come for games\, community\, fun\, and God stuff every Wednesday night. \nWe start in the Fellowship Hall (near the East entry)\, head down to the youth space in the basement for worship\, and then upstairs for a message. We hope you’ll join us! \nTo learn more about Wildfire & Sunset Youth\, please click here.
URL:https://sunset.church/event/wildfire-middle-school-youth-group/2025-04-30/
LOCATION:Sunset Church\, 14986 NW Cornell Rd\, Portland\, OR\, 97229\, United States
CATEGORIES:Sunset Youth
ATTACH;FMTTYPE=image/jpeg:https://sunset.church/wp-content/uploads/2024/07/event-images-1.jpg
END:VEVENT
BEGIN:VEVENT
DTSTART;TZID=America/Los_Angeles:20250504T113000
DTEND;TZID=America/Los_Angeles:20250504T123000
DTSTAMP:20260423T133256
CREATED:20240724T223400Z
LAST-MODIFIED:20250501T230454Z
UID:10003281-1746358200-1746361800@sunset.church
SUMMARY:Middle School Bible Study
DESCRIPTION:All 6th-8th graders are invited to join us on Sundays in the basement (Youth Room) for our weekly Bible study. Snacks are provided! See you there.
URL:https://sunset.church/event/middle-school-bible-study-2/2025-05-04/
LOCATION:Sunset Church\, 14986 NW Cornell Rd\, Portland\, OR\, 97229\, United States
CATEGORIES:Sunset Youth
END:VEVENT
BEGIN:VEVENT
DTSTART;TZID=America/Los_Angeles:20250507T183000
DTEND;TZID=America/Los_Angeles:20250507T203000
DTSTAMP:20260423T133256
CREATED:20240724T225639Z
LAST-MODIFIED:20250501T230302Z
UID:10003319-1746642600-1746649800@sunset.church
SUMMARY:Wildfire - Middle School Youth Group
DESCRIPTION:Each week\, all 6th-8th grade students are invited to Wildfire — our middle school youth group!  Students are invited to come for games\, community\, fun\, and God stuff every Wednesday night. \nWe start in the Fellowship Hall (near the East entry)\, head down to the youth space in the basement for worship\, and then upstairs for a message. We hope you’ll join us! \nTo learn more about Wildfire & Sunset Youth\, please click here.
URL:https://sunset.church/event/wildfire-middle-school-youth-group/2025-05-07/
LOCATION:Sunset Church\, 14986 NW Cornell Rd\, Portland\, OR\, 97229\, United States
CATEGORIES:Sunset Youth
ATTACH;FMTTYPE=image/jpeg:https://sunset.church/wp-content/uploads/2024/07/event-images-1.jpg
END:VEVENT
BEGIN:VEVENT
DTSTART;TZID=America/Los_Angeles:20250511T113000
DTEND;TZID=America/Los_Angeles:20250511T123000
DTSTAMP:20260423T133256
CREATED:20240724T223400Z
LAST-MODIFIED:20250501T230454Z
UID:10003282-1746963000-1746966600@sunset.church
SUMMARY:Middle School Bible Study
DESCRIPTION:All 6th-8th graders are invited to join us on Sundays in the basement (Youth Room) for our weekly Bible study. Snacks are provided! See you there.
URL:https://sunset.church/event/middle-school-bible-study-2/2025-05-11/
LOCATION:Sunset Church\, 14986 NW Cornell Rd\, Portland\, OR\, 97229\, United States
CATEGORIES:Sunset Youth
END:VEVENT
BEGIN:VEVENT
DTSTART;TZID=America/Los_Angeles:20250514T183000
DTEND;TZID=America/Los_Angeles:20250514T203000
DTSTAMP:20260423T133256
CREATED:20240724T225639Z
LAST-MODIFIED:20250501T230302Z
UID:10003320-1747247400-1747254600@sunset.church
SUMMARY:Wildfire - Middle School Youth Group
DESCRIPTION:Each week\, all 6th-8th grade students are invited to Wildfire — our middle school youth group!  Students are invited to come for games\, community\, fun\, and God stuff every Wednesday night. \nWe start in the Fellowship Hall (near the East entry)\, head down to the youth space in the basement for worship\, and then upstairs for a message. We hope you’ll join us! \nTo learn more about Wildfire & Sunset Youth\, please click here.
URL:https://sunset.church/event/wildfire-middle-school-youth-group/2025-05-14/
LOCATION:Sunset Church\, 14986 NW Cornell Rd\, Portland\, OR\, 97229\, United States
CATEGORIES:Sunset Youth
ATTACH;FMTTYPE=image/jpeg:https://sunset.church/wp-content/uploads/2024/07/event-images-1.jpg
END:VEVENT
BEGIN:VEVENT
DTSTART;TZID=America/Los_Angeles:20250518T113000
DTEND;TZID=America/Los_Angeles:20250518T123000
DTSTAMP:20260423T133256
CREATED:20240724T223400Z
LAST-MODIFIED:20250501T230454Z
UID:10003283-1747567800-1747571400@sunset.church
SUMMARY:Middle School Bible Study
DESCRIPTION:All 6th-8th graders are invited to join us on Sundays in the basement (Youth Room) for our weekly Bible study. Snacks are provided! See you there.
URL:https://sunset.church/event/middle-school-bible-study-2/2025-05-18/
LOCATION:Sunset Church\, 14986 NW Cornell Rd\, Portland\, OR\, 97229\, United States
CATEGORIES:Sunset Youth
END:VEVENT
BEGIN:VEVENT
DTSTART;TZID=America/Los_Angeles:20250521T183000
DTEND;TZID=America/Los_Angeles:20250521T203000
DTSTAMP:20260423T133256
CREATED:20240724T225639Z
LAST-MODIFIED:20250501T230302Z
UID:10003321-1747852200-1747859400@sunset.church
SUMMARY:Wildfire - Middle School Youth Group
DESCRIPTION:Each week\, all 6th-8th grade students are invited to Wildfire — our middle school youth group!  Students are invited to come for games\, community\, fun\, and God stuff every Wednesday night. \nWe start in the Fellowship Hall (near the East entry)\, head down to the youth space in the basement for worship\, and then upstairs for a message. We hope you’ll join us! \nTo learn more about Wildfire & Sunset Youth\, please click here.
URL:https://sunset.church/event/wildfire-middle-school-youth-group/2025-05-21/
LOCATION:Sunset Church\, 14986 NW Cornell Rd\, Portland\, OR\, 97229\, United States
CATEGORIES:Sunset Youth
ATTACH;FMTTYPE=image/jpeg:https://sunset.church/wp-content/uploads/2024/07/event-images-1.jpg
END:VEVENT
END:VCALENDAR