BEGIN:VCALENDAR
VERSION:2.0
PRODID:-//Sunset Church - ECPv6.15.20//NONSGML v1.0//EN
CALSCALE:GREGORIAN
METHOD:PUBLISH
X-ORIGINAL-URL:https://sunset.church
X-WR-CALDESC:Events for Sunset Church
REFRESH-INTERVAL;VALUE=DURATION:PT1H
X-Robots-Tag:noindex
X-PUBLISHED-TTL:PT1H
BEGIN:VTIMEZONE
TZID:America/Los_Angeles
BEGIN:DAYLIGHT
TZOFFSETFROM:-0800
TZOFFSETTO:-0700
TZNAME:PDT
DTSTART:20230312T100000
END:DAYLIGHT
BEGIN:STANDARD
TZOFFSETFROM:-0700
TZOFFSETTO:-0800
TZNAME:PST
DTSTART:20231105T090000
END:STANDARD
BEGIN:DAYLIGHT
TZOFFSETFROM:-0800
TZOFFSETTO:-0700
TZNAME:PDT
DTSTART:20240310T100000
END:DAYLIGHT
BEGIN:STANDARD
TZOFFSETFROM:-0700
TZOFFSETTO:-0800
TZNAME:PST
DTSTART:20241103T090000
END:STANDARD
BEGIN:DAYLIGHT
TZOFFSETFROM:-0800
TZOFFSETTO:-0700
TZNAME:PDT
DTSTART:20250309T100000
END:DAYLIGHT
BEGIN:STANDARD
TZOFFSETFROM:-0700
TZOFFSETTO:-0800
TZNAME:PST
DTSTART:20251102T090000
END:STANDARD
END:VTIMEZONE
BEGIN:VEVENT
DTSTART;TZID=America/Los_Angeles:20240103T183000
DTEND;TZID=America/Los_Angeles:20240103T203000
DTSTAMP:20260421T031416
CREATED:20230913T183809Z
LAST-MODIFIED:20230913T183809Z
UID:10002205-1704306600-1704313800@sunset.church
SUMMARY:Middle School Youth Group
DESCRIPTION:All 6th-8th graders are invited to Middle School Youth Group every week! Each Wednesday\, students are invited to come for games\, community\, fun\, and God stuff. \nWe start in the Fellowship Hall (near the East entry)\,  head down together to the youth space in the basement for worship\, and then upstairs for a message. We hope you’ll join us!
URL:https://sunset.church/event/middle-school-youth-group/2024-01-03/
LOCATION:Sunset Church\, 14986 NW Cornell Rd\, Portland\, OR\, 97229\, United States
CATEGORIES:Sunset Youth
END:VEVENT
BEGIN:VEVENT
DTSTART;TZID=America/Los_Angeles:20240107T113000
DTEND;TZID=America/Los_Angeles:20240107T123000
DTSTAMP:20260421T031416
CREATED:20230926T163633Z
LAST-MODIFIED:20231010T175506Z
UID:10002295-1704627000-1704630600@sunset.church
SUMMARY:Middle School Bible Study
DESCRIPTION:All 6th-8th graders are invited to join us on Sundays from 11:30 am-12:30 pm in the basement for our weekly Middle School Bible Study.  \nSnacks provided!! \n 
URL:https://sunset.church/event/middle-school-bible-study/2024-01-07/
CATEGORIES:Sunset Youth
ATTACH;FMTTYPE=image/jpeg:https://sunset.church/wp-content/uploads/2023/09/MS-bible-study-group-scaled-e1696960491200.jpg
END:VEVENT
BEGIN:VEVENT
DTSTART;TZID=America/Los_Angeles:20240110T183000
DTEND;TZID=America/Los_Angeles:20240110T203000
DTSTAMP:20260421T031416
CREATED:20230913T183809Z
LAST-MODIFIED:20230913T183809Z
UID:10002206-1704911400-1704918600@sunset.church
SUMMARY:Middle School Youth Group
DESCRIPTION:All 6th-8th graders are invited to Middle School Youth Group every week! Each Wednesday\, students are invited to come for games\, community\, fun\, and God stuff. \nWe start in the Fellowship Hall (near the East entry)\,  head down together to the youth space in the basement for worship\, and then upstairs for a message. We hope you’ll join us!
URL:https://sunset.church/event/middle-school-youth-group/2024-01-10/
LOCATION:Sunset Church\, 14986 NW Cornell Rd\, Portland\, OR\, 97229\, United States
CATEGORIES:Sunset Youth
END:VEVENT
BEGIN:VEVENT
DTSTART;TZID=America/Los_Angeles:20240114T113000
DTEND;TZID=America/Los_Angeles:20240114T123000
DTSTAMP:20260421T031416
CREATED:20230926T163633Z
LAST-MODIFIED:20231010T175506Z
UID:10002296-1705231800-1705235400@sunset.church
SUMMARY:Middle School Bible Study
DESCRIPTION:All 6th-8th graders are invited to join us on Sundays from 11:30 am-12:30 pm in the basement for our weekly Middle School Bible Study.  \nSnacks provided!! \n 
URL:https://sunset.church/event/middle-school-bible-study/2024-01-14/
CATEGORIES:Sunset Youth
ATTACH;FMTTYPE=image/jpeg:https://sunset.church/wp-content/uploads/2023/09/MS-bible-study-group-scaled-e1696960491200.jpg
END:VEVENT
BEGIN:VEVENT
DTSTART;TZID=America/Los_Angeles:20240117T183000
DTEND;TZID=America/Los_Angeles:20240117T203000
DTSTAMP:20260421T031417
CREATED:20240117T204448Z
LAST-MODIFIED:20240117T204722Z
UID:10002207-1705516200-1705523400@sunset.church
SUMMARY:Middle School Youth Group - CANCELED TONIGHT
DESCRIPTION:DUE TO THE INCLEMENT WEATHER\, WE ARE CANCELING TONIGHT’S YOUTH GROUP GATHERING. \nAll 6th-8th graders are invited to Middle School Youth Group every week! Each Wednesday\, students are invited to come for games\, community\, fun\, and God stuff. \nWe start in the Fellowship Hall (near the East entry)\,  head down together to the youth space in the basement for worship\, and then upstairs for a message. We hope you’ll join us!
URL:https://sunset.church/event/middle-school-youth-group-3/
LOCATION:Sunset Church\, 14986 NW Cornell Rd\, Portland\, OR\, 97229\, United States
CATEGORIES:Sunset Youth
END:VEVENT
BEGIN:VEVENT
DTSTART;TZID=America/Los_Angeles:20240121T113000
DTEND;TZID=America/Los_Angeles:20240121T123000
DTSTAMP:20260421T031417
CREATED:20230926T163633Z
LAST-MODIFIED:20231010T175506Z
UID:10002297-1705836600-1705840200@sunset.church
SUMMARY:Middle School Bible Study
DESCRIPTION:All 6th-8th graders are invited to join us on Sundays from 11:30 am-12:30 pm in the basement for our weekly Middle School Bible Study.  \nSnacks provided!! \n 
URL:https://sunset.church/event/middle-school-bible-study/2024-01-21/
CATEGORIES:Sunset Youth
ATTACH;FMTTYPE=image/jpeg:https://sunset.church/wp-content/uploads/2023/09/MS-bible-study-group-scaled-e1696960491200.jpg
END:VEVENT
BEGIN:VEVENT
DTSTART;TZID=America/Los_Angeles:20240124T183000
DTEND;TZID=America/Los_Angeles:20240124T210000
DTSTAMP:20260421T031417
CREATED:20231205T234928Z
LAST-MODIFIED:20240110T180703Z
UID:10003059-1706121000-1706130000@sunset.church
SUMMARY:Sunset Youth - A Night at DEFY
DESCRIPTION:Sunset Youth (both middle and high school) are going to DEFY Beaverton instead of our regular Wednesday night youth groups at the church. \nWe’ve rented the entire place\, and . . . it’s FREE! So bring your friends!! \nGet dropped off at DEFY Beaverton at 6:30 pm and then get picked up at 9 pm. We are not meeting at the church. \nCLICK HERE TO REGISTER
URL:https://sunset.church/event/sunset-youth-goes-to-defy-beaverton/
LOCATION:DEFY Beaverton\, 10750 SW Denney Rd\, Beaverton\, OR\, 97008\, United States
CATEGORIES:Sunset Youth
ATTACH;FMTTYPE=image/webp:https://sunset.church/wp-content/uploads/2023/12/DEFY-Beaverton.webp
END:VEVENT
BEGIN:VEVENT
DTSTART;TZID=America/Los_Angeles:20240128T113000
DTEND;TZID=America/Los_Angeles:20240128T123000
DTSTAMP:20260421T031417
CREATED:20230926T163633Z
LAST-MODIFIED:20231010T175506Z
UID:10002298-1706441400-1706445000@sunset.church
SUMMARY:Middle School Bible Study
DESCRIPTION:All 6th-8th graders are invited to join us on Sundays from 11:30 am-12:30 pm in the basement for our weekly Middle School Bible Study.  \nSnacks provided!! \n 
URL:https://sunset.church/event/middle-school-bible-study/2024-01-28/
CATEGORIES:Sunset Youth
ATTACH;FMTTYPE=image/jpeg:https://sunset.church/wp-content/uploads/2023/09/MS-bible-study-group-scaled-e1696960491200.jpg
END:VEVENT
BEGIN:VEVENT
DTSTART;TZID=America/Los_Angeles:20240131T183000
DTEND;TZID=America/Los_Angeles:20240131T203000
DTSTAMP:20260421T031417
CREATED:20230913T183809Z
LAST-MODIFIED:20230913T183809Z
UID:10002209-1706725800-1706733000@sunset.church
SUMMARY:Middle School Youth Group
DESCRIPTION:All 6th-8th graders are invited to Middle School Youth Group every week! Each Wednesday\, students are invited to come for games\, community\, fun\, and God stuff. \nWe start in the Fellowship Hall (near the East entry)\,  head down together to the youth space in the basement for worship\, and then upstairs for a message. We hope you’ll join us!
URL:https://sunset.church/event/middle-school-youth-group/2024-01-31/
LOCATION:Sunset Church\, 14986 NW Cornell Rd\, Portland\, OR\, 97229\, United States
CATEGORIES:Sunset Youth
END:VEVENT
END:VCALENDAR