BEGIN:VCALENDAR
VERSION:2.0
PRODID:-//Sunset Church - ECPv6.15.20//NONSGML v1.0//EN
CALSCALE:GREGORIAN
METHOD:PUBLISH
X-WR-CALNAME:Sunset Church
X-ORIGINAL-URL:https://sunset.church
X-WR-CALDESC:Events for Sunset Church
REFRESH-INTERVAL;VALUE=DURATION:PT1H
X-Robots-Tag:noindex
X-PUBLISHED-TTL:PT1H
BEGIN:VTIMEZONE
TZID:America/Los_Angeles
BEGIN:DAYLIGHT
TZOFFSETFROM:-0800
TZOFFSETTO:-0700
TZNAME:PDT
DTSTART:20250309T100000
END:DAYLIGHT
BEGIN:STANDARD
TZOFFSETFROM:-0700
TZOFFSETTO:-0800
TZNAME:PST
DTSTART:20251102T090000
END:STANDARD
BEGIN:DAYLIGHT
TZOFFSETFROM:-0800
TZOFFSETTO:-0700
TZNAME:PDT
DTSTART:20260308T100000
END:DAYLIGHT
BEGIN:STANDARD
TZOFFSETFROM:-0700
TZOFFSETTO:-0800
TZNAME:PST
DTSTART:20261101T090000
END:STANDARD
BEGIN:DAYLIGHT
TZOFFSETFROM:-0800
TZOFFSETTO:-0700
TZNAME:PDT
DTSTART:20270314T100000
END:DAYLIGHT
BEGIN:STANDARD
TZOFFSETFROM:-0700
TZOFFSETTO:-0800
TZNAME:PST
DTSTART:20271107T090000
END:STANDARD
END:VTIMEZONE
BEGIN:VEVENT
DTSTART;TZID=America/Los_Angeles:20260421T190000
DTEND;TZID=America/Los_Angeles:20260421T203000
DTSTAMP:20260420T090434
CREATED:20250818T042341Z
LAST-MODIFIED:20260313T214553Z
UID:10004713-1776798000-1776803400@sunset.church
SUMMARY:Women's Bible Study - Tuesday PM
DESCRIPTION:Longing to be in a community and study God’s Word? Women’s Bible Study at Sunset Church has a place for all women seeking to know Jesus and the Bible\, while enjoying a vibrant and loving community. \nWe invite you to join us this year! Sign up for the whole year or just one season; the choice is yours! \nThis meeting time is in person on Tuesday evenings from 7-8:30 pm\, meeting in the Fireside Room. \nLearn more & register.
URL:https://sunset.church/event/wbs-tues-evening/2026-04-21/
LOCATION:Sunset Church\, 14986 NW Cornell Rd\, Portland\, OR\, 97229\, United States
CATEGORIES:Sunset Women
ATTACH;FMTTYPE=image/jpeg:https://sunset.church/wp-content/uploads/2025/08/2025-2026-WBS.jpg
END:VEVENT
BEGIN:VEVENT
DTSTART;TZID=America/Los_Angeles:20260428T190000
DTEND;TZID=America/Los_Angeles:20260428T203000
DTSTAMP:20260420T090434
CREATED:20250818T042341Z
LAST-MODIFIED:20260313T214553Z
UID:10004714-1777402800-1777408200@sunset.church
SUMMARY:Women's Bible Study - Tuesday PM
DESCRIPTION:Longing to be in a community and study God’s Word? Women’s Bible Study at Sunset Church has a place for all women seeking to know Jesus and the Bible\, while enjoying a vibrant and loving community. \nWe invite you to join us this year! Sign up for the whole year or just one season; the choice is yours! \nThis meeting time is in person on Tuesday evenings from 7-8:30 pm\, meeting in the Fireside Room. \nLearn more & register.
URL:https://sunset.church/event/wbs-tues-evening/2026-04-28/
LOCATION:Sunset Church\, 14986 NW Cornell Rd\, Portland\, OR\, 97229\, United States
CATEGORIES:Sunset Women
ATTACH;FMTTYPE=image/jpeg:https://sunset.church/wp-content/uploads/2025/08/2025-2026-WBS.jpg
END:VEVENT
BEGIN:VEVENT
DTSTART;TZID=America/Los_Angeles:20260505T190000
DTEND;TZID=America/Los_Angeles:20260505T203000
DTSTAMP:20260420T090434
CREATED:20250818T042341Z
LAST-MODIFIED:20260313T214553Z
UID:10004715-1778007600-1778013000@sunset.church
SUMMARY:Women's Bible Study - Tuesday PM
DESCRIPTION:Longing to be in a community and study God’s Word? Women’s Bible Study at Sunset Church has a place for all women seeking to know Jesus and the Bible\, while enjoying a vibrant and loving community. \nWe invite you to join us this year! Sign up for the whole year or just one season; the choice is yours! \nThis meeting time is in person on Tuesday evenings from 7-8:30 pm\, meeting in the Fireside Room. \nLearn more & register.
URL:https://sunset.church/event/wbs-tues-evening/2026-05-05/
LOCATION:Sunset Church\, 14986 NW Cornell Rd\, Portland\, OR\, 97229\, United States
CATEGORIES:Sunset Women
ATTACH;FMTTYPE=image/jpeg:https://sunset.church/wp-content/uploads/2025/08/2025-2026-WBS.jpg
END:VEVENT
BEGIN:VEVENT
DTSTART;TZID=America/Los_Angeles:20260512T190000
DTEND;TZID=America/Los_Angeles:20260512T203000
DTSTAMP:20260420T090434
CREATED:20250818T042341Z
LAST-MODIFIED:20260313T214553Z
UID:10004716-1778612400-1778617800@sunset.church
SUMMARY:Women's Bible Study - Tuesday PM
DESCRIPTION:Longing to be in a community and study God’s Word? Women’s Bible Study at Sunset Church has a place for all women seeking to know Jesus and the Bible\, while enjoying a vibrant and loving community. \nWe invite you to join us this year! Sign up for the whole year or just one season; the choice is yours! \nThis meeting time is in person on Tuesday evenings from 7-8:30 pm\, meeting in the Fireside Room. \nLearn more & register.
URL:https://sunset.church/event/wbs-tues-evening/2026-05-12/
LOCATION:Sunset Church\, 14986 NW Cornell Rd\, Portland\, OR\, 97229\, United States
CATEGORIES:Sunset Women
ATTACH;FMTTYPE=image/jpeg:https://sunset.church/wp-content/uploads/2025/08/2025-2026-WBS.jpg
END:VEVENT
BEGIN:VEVENT
DTSTART;TZID=America/Los_Angeles:20260519T190000
DTEND;TZID=America/Los_Angeles:20260519T203000
DTSTAMP:20260420T090434
CREATED:20250818T042341Z
LAST-MODIFIED:20260313T214553Z
UID:10004717-1779217200-1779222600@sunset.church
SUMMARY:Women's Bible Study - Tuesday PM
DESCRIPTION:Longing to be in a community and study God’s Word? Women’s Bible Study at Sunset Church has a place for all women seeking to know Jesus and the Bible\, while enjoying a vibrant and loving community. \nWe invite you to join us this year! Sign up for the whole year or just one season; the choice is yours! \nThis meeting time is in person on Tuesday evenings from 7-8:30 pm\, meeting in the Fireside Room. \nLearn more & register.
URL:https://sunset.church/event/wbs-tues-evening/2026-05-19/
LOCATION:Sunset Church\, 14986 NW Cornell Rd\, Portland\, OR\, 97229\, United States
CATEGORIES:Sunset Women
ATTACH;FMTTYPE=image/jpeg:https://sunset.church/wp-content/uploads/2025/08/2025-2026-WBS.jpg
END:VEVENT
BEGIN:VEVENT
DTSTART;TZID=America/Los_Angeles:20260526T190000
DTEND;TZID=America/Los_Angeles:20260526T203000
DTSTAMP:20260420T090434
CREATED:20250818T042341Z
LAST-MODIFIED:20260313T214553Z
UID:10004718-1779822000-1779827400@sunset.church
SUMMARY:Women's Bible Study - Tuesday PM
DESCRIPTION:Longing to be in a community and study God’s Word? Women’s Bible Study at Sunset Church has a place for all women seeking to know Jesus and the Bible\, while enjoying a vibrant and loving community. \nWe invite you to join us this year! Sign up for the whole year or just one season; the choice is yours! \nThis meeting time is in person on Tuesday evenings from 7-8:30 pm\, meeting in the Fireside Room. \nLearn more & register.
URL:https://sunset.church/event/wbs-tues-evening/2026-05-26/
LOCATION:Sunset Church\, 14986 NW Cornell Rd\, Portland\, OR\, 97229\, United States
CATEGORIES:Sunset Women
ATTACH;FMTTYPE=image/jpeg:https://sunset.church/wp-content/uploads/2025/08/2025-2026-WBS.jpg
END:VEVENT
END:VCALENDAR