BEGIN:VCALENDAR
VERSION:2.0
PRODID:-//Sunset Church - ECPv6.15.20//NONSGML v1.0//EN
CALSCALE:GREGORIAN
METHOD:PUBLISH
X-WR-CALNAME:Sunset Church
X-ORIGINAL-URL:https://sunset.church
X-WR-CALDESC:Events for Sunset Church
REFRESH-INTERVAL;VALUE=DURATION:PT1H
X-Robots-Tag:noindex
X-PUBLISHED-TTL:PT1H
BEGIN:VTIMEZONE
TZID:America/Los_Angeles
BEGIN:DAYLIGHT
TZOFFSETFROM:-0800
TZOFFSETTO:-0700
TZNAME:PDT
DTSTART:20250309T100000
END:DAYLIGHT
BEGIN:STANDARD
TZOFFSETFROM:-0700
TZOFFSETTO:-0800
TZNAME:PST
DTSTART:20251102T090000
END:STANDARD
BEGIN:DAYLIGHT
TZOFFSETFROM:-0800
TZOFFSETTO:-0700
TZNAME:PDT
DTSTART:20260308T100000
END:DAYLIGHT
BEGIN:STANDARD
TZOFFSETFROM:-0700
TZOFFSETTO:-0800
TZNAME:PST
DTSTART:20261101T090000
END:STANDARD
BEGIN:DAYLIGHT
TZOFFSETFROM:-0800
TZOFFSETTO:-0700
TZNAME:PDT
DTSTART:20270314T100000
END:DAYLIGHT
BEGIN:STANDARD
TZOFFSETFROM:-0700
TZOFFSETTO:-0800
TZNAME:PST
DTSTART:20271107T090000
END:STANDARD
END:VTIMEZONE
BEGIN:VEVENT
DTSTART;TZID=America/Los_Angeles:20260507T093000
DTEND;TZID=America/Los_Angeles:20260507T113000
DTSTAMP:20260424T053453
CREATED:20250913T225931Z
LAST-MODIFIED:20251124T024536Z
UID:10004865-1778146200-1778153400@sunset.church
SUMMARY:Sunset Moms
DESCRIPTION:1st\, 3rd & 5th Thursdays\, September 18 – May 21\, 9:30am-11:30am in the Narthex.  \nWhile life caring for our families can sometimes feel wild and chaotic\, it can also be beautiful\, like the growth of wildflowers. This year’s theme at Sunset Moms will be Growing Wild. We will explore how God is tending to us and our children encouraging us to grow. Whether you are in a season of chaos or calm\, in need of encouragement or ready to extend encouragement to others\, or all of the above\, then you are welcome here. There is childcare for your littles\, food for your belly\, community and teaching for your soul. \nLEARN MORE >>>
URL:https://sunset.church/event/sunset-moms-20/2026-05-07/
LOCATION:Sunset Church\, 14986 NW Cornell Rd\, Portland\, OR\, 97229\, United States
CATEGORIES:Sunset Moms
ATTACH;FMTTYPE=image/png:https://sunset.church/wp-content/uploads/2025/08/growing-WILD-Sunset-Moms-Graphic.png
END:VEVENT
END:VCALENDAR